BEGIN:VCALENDAR
VERSION:2.0
PRODID:-//The Diana Cooper School of White Light - ECPv6.2.8.2//NONSGML v1.0//EN
CALSCALE:GREGORIAN
METHOD:PUBLISH
X-WR-CALNAME:The Diana Cooper School of White Light
X-ORIGINAL-URL:https://www.dianacooperschoolofwhitelight.com/de/
X-WR-CALDESC:Events for The Diana Cooper School of White Light
REFRESH-INTERVAL;VALUE=DURATION:PT1H
X-Robots-Tag:noindex
X-PUBLISHED-TTL:PT1H
BEGIN:VTIMEZONE
TZID:UTC
BEGIN:STANDARD
TZOFFSETFROM:+0000
TZOFFSETTO:+0000
TZNAME:UTC
DTSTART:20260101T000000
END:STANDARD
END:VTIMEZONE
BEGIN:VEVENT
DTSTART;TZID=UTC:20260430T110000
DTEND;TZID=UTC:20260509T180000
DTSTAMP:20260422T102859
CREATED:20251110T175537Z
LAST-MODIFIED:20260223T161549Z
UID:10009743-1777546800-1778349600@www.dianacooperschoolofwhitelight.com
SUMMARY:PRÄSENZ AUFSTIEG Lehrerausbildung\, incl.Basis Kurs\, 30.04.-02.05.26\, 1.Modul 04.-06.05.26\, 2.Modul 07.-09.05.26
DESCRIPTION:Aufstieg Lehreraubildung PRÄSENZ\, \nBasis Kurs 30.04.-02.05.26\, 1.Modul 04.-06.05.26\, 2.Modul 07.-09.05.26 \nMöchtest du eigene Seminare und Workshops leiten und andere Menschen auf ihrem Aufstiegsweg zur Seite stehen\, über Aufgestiegene Meister und Lichtkörperaufbau unterrichten? Möchtest du ein Licht sein\, das in diese Welt hinaus strahlt? \nDann ist dies die Möglichkeit deine Träume zu manifestieren. \nUnser Planet Erde befindet sich in einem Bewusstseinswandel\, damit wir alle in einer höheren Frequenz von Liebe\, Weisheit\, Zusammenarbeit und Frieden leben können. Wir sind sehr gesegnet jetzt inkarniert zu sein\, da die Möglichkeiten für spirituelles Wachstum sehr groß sind. Uns wird die Gelegenheit geboten den Himmel auf Erden zu erschaffen. Engel\, Aufgestiegen Meister und hochfrequente Energien sind hier um uns zu helfen. \nDiese Lehrerausbildung wird dich mit Wissen\, Fähigkeiten und Selbstvertrauen ermächtigen. Du lernst das Licht des Aufstiegs und der Aufgestiegenen Meister auf deine eigene kreative Weise hinauszugeben\, indem du eigene Gruppen oder Workshops leitest oder das Licht in deiner Familie oder unter deinen Freunden\, innerhalb deiner Arbeitsstelle oder Gemeinde verbreitest. \nDie Ausbildung ist erfahrungsbezogen\, wobei der Schwerpunkt auf die Entwicklung praktischer Lehrfähigkeiten liegt. Dies wird durch eine fundierte Lehrerausbildung und die Handbücher unterstützt. \nDie Aufstieg Lehrer*in Ausbildung wird:\n\nDich ermächtigen\, Meditationen für den Aufstiegsweg zu entwickeln und anzuleiten\nDein Selbstvertrauen als Aufstiegslehrerin/Aufstiegslehrer aufbauen\nDich fördern\, deine eigenen Aufstieg Workshops zu entwickeln und auf professionelle Weise anzuleiten\nDir aufzeigen\, wie du dich sicher mit Aufgestiegenen Meistern verbinden kannst\nDeine persönliche Verbindung mit Aufgestiegenen Meistern und hoch frequenten Aufstiegsenergien entwickeln und stärken\nDir ein umfassendes Verständnis über den Aufstiegsprozess und Aufbau des Lichtkörpers geben\nDich mit mächtigen Methoden vertraut machen\, die Energien umwandeln und deine Heilungsfähigkeiten verstärken\nDir Wege zeigen\, das Ego loszulassen und zu erlösen\,\nDie unterschiedlichen Dimensionen kennenzulernen\nDich u.a. lehren mit der Gold und Silber-Violette Flamme\, der Mahatma Energie und Huna Gebeten zu wirken\nDu lernst Anrufungen und Dekrete\, Aufstiegskammern zu besuchen\, mit den unterschiedlichen Strahlen zu arbeiten\nMit Klang\, Tönen und Symbolen zu wirken\nDie Meister zu channeln\nKarma auszugleichen\nEine Möglichkeit sein für deine persönliche Weiterentwicklung und deinen Fortschritt auf deiner spirituellen Reise.\nDir die Möglichkeit geben\, dich zu registrieren und ein professionelles Mitglied der Diana Cooper School of White Light zu werden.\nUnd einiges mehr\n\nICH FREUE MICH AUF DICH! \nFragen? Schreibe mireine Email oder rufe mich an. \ninfo@cornelia-maria-mohr.com \n0176 64883278
URL:https://www.dianacooperschoolofwhitelight.com/de/course/praesenz-aufstieg-lehrerausbildung-incl-basis-kurs-30-04-02-05-26-1-modul-04-06-05-26-2-modul-07-09-05-26/
LOCATION:Praxis für Körper Geist und Seele\, Praxis für Körper Geist und Seele\, Diepersdorf bei Nürnberg\, Bayern\, 91227\, Deutschland
CATEGORIES:Lehrerausbildung
ATTACH;FMTTYPE=image/png:https://www.dianacooperschoolofwhitelight.com/wp-content/uploads/2025/11/Engel-Meditation.png
ORGANIZER;CN="Cornelia Maria Mohr":MAILTO:Praxis.c.mohr@t-online.de
END:VEVENT
END:VCALENDAR