BEGIN:VCALENDAR
VERSION:2.0
PRODID:-//The Diana Cooper School of White Light - ECPv6.2.8.2//NONSGML v1.0//EN
CALSCALE:GREGORIAN
METHOD:PUBLISH
X-ORIGINAL-URL:https://www.dianacooperschoolofwhitelight.com/de/
X-WR-CALDESC:Events for The Diana Cooper School of White Light
REFRESH-INTERVAL;VALUE=DURATION:PT1H
X-Robots-Tag:noindex
X-PUBLISHED-TTL:PT1H
BEGIN:VTIMEZONE
TZID:UTC
BEGIN:STANDARD
TZOFFSETFROM:+0000
TZOFFSETTO:+0000
TZNAME:UTC
DTSTART:20260101T000000
END:STANDARD
END:VTIMEZONE
BEGIN:VEVENT
DTSTART;VALUE=DATE:20260415
DTEND;VALUE=DATE:20260416
DTSTAMP:20260422T102004
CREATED:20251110T183644Z
LAST-MODIFIED:20260223T163306Z
UID:10009745-1776211200-1776297599@www.dianacooperschoolofwhitelight.com
SUMMARY:ONLINE GOLDENES ATLANTIS LEHRERAUSBILDUNG incl. Lehrer Basis Kurs ab 15. April 2026
DESCRIPTION:GOLDEN ATLANTIS LEHRERAUSBILDUNG incl. Lehrergrundkurs: Ab 15. April 2026 11.00 -13.00 Uhr \nTerminabsprachen sind möglich \nMöchtest du eigene Seminare und Workshops leiten und andere Menschen über Engel unterrichten? Möchtest du ein Licht sein\, das in diese Welt hinaus strahlt? Dann ist dies die Gelegenheit deine Träume zu manifestieren. \nDie GOLDEN ATLANTIS Lehrerausbildung vermittelt dir das Wissen\, die Fähigkeiten und das Selbstvertrauen\, um deine eigenen Goldenen Atlantis Workshops und Programme auf deine eigene kreative Weise zu entwickeln und durchzuführen.\nDer Zweck dieser Lehrerausbildungsprogramm ist\, Weisheit\, Kraft und Erleuchtung in dein Leben und in das Leben anderer zu bringen. Die Zeit dies zu tun ist JETZT. \nDas Goldene Zeitalter von Atlantis war eine außergewöhnliche Zeit\, in der die spirituelle Energie die höchste war\, die es jemals in der Geschichte unseres Planeten gegeben hat. Es war das dem Himmel auf Erden nächstgelegene\, das wir erleben durften. Die Menschen strahlten vor Licht und Glück; und lebten freudig in völliger Harmonie miteinander und der Natur. Sie entwickelten erstaunliche spirituelle\, psychische und technologische Kräfte und hatten eine klare Verbindung zum Göttlichen. \nDIE GOLDENES ATLANTIS LEHRER*IN AUSBILDUNG WIRD:\n\nDein Herz zu öffnen und in den fünft-dimensionalen Energien von Liebe\, Freude und Harmonie zu leben.\nDie neuen Energien\, die 2012 auf den Planeten kamen\, voranzubringen\nEin größeres Verständnis über Goldenes Atlantis und wie die Menschen lebten zu bekommen\nDeinen Lichtkörper auszudehnen\nDeine natürlichen übersinnlichen Fähigkeiten zu entwickeln\nDeine Lebensmission zu erfüllen\nDas Selbstvertrauen zu entwickeln deine Fähigkeiten mit anderen zu teilen\nDeine eigenen Goldenes Atlantis Workshops zu halten\nEin sicheres Lehr- und Unterrichtsumfeld zu kreieren und zu managen\nEine Vielzahl von spirituellen Lehren und Übungen zu entwickeln und anzuwenden\nProgramme und Übungen auf die speziellen Bedürfnisse von Gruppen und Einzelpersonen abzustimmen\nDie Weisheit und das Wissen vom Goldenen Atlantis auf die Erfahrungen deiner eigenen Gruppen zu beziehen\nDeinen eigenen\, einzigartigen Lern- und Lehrstil zu entwickeln und zu ehren\nDich zu registrieren und ein professionelles Mitglied der Diana Cooper School of White Light zu wer\nDie Ausbildung ist erfahrungsbezogen\, wobei der Schwerpunkt auf die Entwicklung praktischer Lehrfähigkeiten liegt. Dies wird durch eine fundierte Lehrerausbildung und die Handbücher unterstützt.\n\nMehr Info und Anmeldung: info@cornelia-maria-mohr.com \n0049 176 64883278 \n\nStartseite
URL:https://www.dianacooperschoolofwhitelight.com/de/course/online-goldenes-atlantis-lehrerausbildung-incl-lehrer-basis-kurs-ab-08-januar-2026/
CATEGORIES:Lehrerausbildung
ATTACH;FMTTYPE=image/png:https://www.dianacooperschoolofwhitelight.com/wp-content/uploads/2025/11/Golden-Atlantis-Lehrer-Training1.png
ORGANIZER;CN="Cornelia Maria Mohr":MAILTO:Praxis.c.mohr@t-online.de
END:VEVENT
END:VCALENDAR