BEGIN:VCALENDAR
VERSION:2.0
PRODID:-//The Diana Cooper School of White Light - ECPv6.2.8.2//NONSGML v1.0//EN
CALSCALE:GREGORIAN
METHOD:PUBLISH
X-ORIGINAL-URL:https://www.dianacooperschoolofwhitelight.com/de/
X-WR-CALDESC:Events for The Diana Cooper School of White Light
REFRESH-INTERVAL;VALUE=DURATION:PT1H
X-Robots-Tag:noindex
X-PUBLISHED-TTL:PT1H
BEGIN:VTIMEZONE
TZID:UTC
BEGIN:STANDARD
TZOFFSETFROM:+0000
TZOFFSETTO:+0000
TZNAME:UTC
DTSTART:20260101T000000
END:STANDARD
END:VTIMEZONE
BEGIN:VEVENT
DTSTART;VALUE=DATE:20260414
DTEND;VALUE=DATE:20260415
DTSTAMP:20260422T101921
CREATED:20260307T165347Z
LAST-MODIFIED:20260307T165347Z
UID:10010433-1776124800-1776211199@www.dianacooperschoolofwhitelight.com
SUMMARY:Online Seminar - Stärke deine Intuition mit 7-dimensionalen galaktischen Drachen - 14. April 2026 19.00 - 21.00 Uhr
DESCRIPTION:Stärke deine Intuition mit 7-dimensionalen galaktischen Drachen \nHochschwingende Drachen schwingen dich auf den Kosmos ein –  \nLerne an diesem Abend einige vierdimensionale und drei siebendimensionale galaktische Drachen kennen und arbeite mit ihnen. Die galaktischen Drachen kommen von den Sternen und Planeten dieses Universums. Sie sind hochfrequente und unglaublich weise Wesen\, die sich mit der Menschheit verbinden und uns beim Aufstieg unterstützen. Die galaktischen Drachen können dich für neues Verständnis und höheres Licht öffnen. Diese wundervollen siebendimensionalen Wesen aktivieren dein Höheres Herz\, legen den Zugang zu deiner Intuition und deinem Höheren Wissen und bereichern definitiv dein Leben. Sie baden dich in der Frequenz der Großen Zentralsonne und aktivieren deine göttlichen männlichen Energien der Kreation. \n  \nKomm mit in die Goldenen Zukunft!  \nKomm mit in die Goldene Zukunft\, womit ein höherer Zustand unseres kollektiven Bewusstseins gemeint ist. \nKomm mit in eine Welt\, die auf Liebe und Einheit basiert\, in eine Welt\, in der die Erinnerung\, wer wir wirklich sind\, in uns verankert ist. \nKomm mit in eine brandneue Zivilisation auf der Erde\, in der unsere kristallinen Körper ausgebildet sind. \nMit diesen Onlineworkshops lade ich dich auch im Jahr 2026 herzlich ein\, das fünf-dimensionale Paradigma in dein Leben zu bringen und somit auch auf unseren Planeten! Halte die Vision einer Zukunft\, die von Einheit\, Harmonie und neuen überraschenden Möglichkeiten geprägt ist. Sei ein Vorbild\, lass dein Licht weit leuchten! \nIn jedem Seminar erhältst du konkrete Hinweise\, die dich darin unterstützen\, mit Leichtigkeit dein Leben in eine höhere Dimension zu bringen und wie du auf diese Weise ein Vorbild für viele andere um dich herum sein kannst. \n 
URL:https://www.dianacooperschoolofwhitelight.com/de/course/online-seminar-staerke-deine-intuition-mit-7-dimensionalen-galaktischen-drachen-14-april-2026-19-00-21-00-uhr/
CATEGORIES:Workshops
ATTACH;FMTTYPE=image/png:https://www.dianacooperschoolofwhitelight.com/wp-content/uploads/2026/03/14.4.26-Online-Abendseminar-Drachen.png
ORGANIZER;CN="Cornelia Maria Mohr":MAILTO:Praxis.c.mohr@t-online.de
END:VEVENT
END:VCALENDAR