BEGIN:VCALENDAR
VERSION:2.0
PRODID:-//The Diana Cooper School of White Light - ECPv6.2.8.2//NONSGML v1.0//EN
CALSCALE:GREGORIAN
METHOD:PUBLISH
X-ORIGINAL-URL:https://www.dianacooperschoolofwhitelight.com
X-WR-CALDESC:Events for The Diana Cooper School of White Light
REFRESH-INTERVAL;VALUE=DURATION:PT1H
X-Robots-Tag:noindex
X-PUBLISHED-TTL:PT1H
BEGIN:VTIMEZONE
TZID:UTC
BEGIN:STANDARD
TZOFFSETFROM:+0000
TZOFFSETTO:+0000
TZNAME:UTC
DTSTART:20260101T000000
END:STANDARD
END:VTIMEZONE
BEGIN:VEVENT
DTSTART;TZID=UTC:20260722T143000
DTEND;TZID=UTC:20260722T163000
DTSTAMP:20260419T140823
CREATED:20260408T140155Z
LAST-MODIFIED:20260408T143948Z
UID:10011095-1784730600-1784737800@www.dianacooperschoolofwhitelight.com
SUMMARY:Formación de Profesor Transforma Tu Vida
DESCRIPTION:Todo lo que experimentamos en la vida es un regalo para aprender. Cuando comprendemos\, aceptamos y trabajamos con este “regalo”\, podemos liberarnos del conflicto y la lucha y comenzar a vivir en amor\, luz y armonía. Para lograr esto\, debemos buscar el dominio personal y espiritual. \nLa Formación de Profesores Transforma Tu Vida es un programa único que combina el dominio de los cuerpos físico\, mental y emocional con una comprensión más profunda del universo y la aplicación de sus leyes a nuestra vida.… \nEl curso comienza el 22 de Julio y se impartirá cada Miercoles por Zoom durante 12 semanas para profesores ya certificados. \n🕊️ ¿Aún no eres maestro certificado?\nSolo necesitas completar el Módulo de Formación de Profesor (seis sesiones de 2 horas) antes de comenzar la formación de Angeles. Contáctame y coordinaremos tus sesiones. \n📘 Detalles\n📍 Ubicación: On line via Zoom                                                                                                                                                                                            🕒 Hora: 14:30-16:30 Hora de Madrid\n💰 £924  Profesores certificados\n💰 £1386  Profesores no certificados \n📩 Escríbeme a paula@paula-nielsen.com si tienes alguna pregunta o quieres reservar tu clase. \nSi te interesa este curso de formación de profesor pero no puedes asistir en la fecha propuesta\, no dudes en escribirme. Juntos encontraremos un día y horario que se adapten mejor a tu disponibilidad. \n\nMensaje de Diana Cooper\n“Creo que comprenderte a ti mismo es fundamental para tu crecimiento espiritual\, así como para tu salud\, éxito\, prosperidad y felicidad. Al capacitarte para convertirte en un Maestro Transformacional para nuestra Escuela\, cambiarás el curso de tu vida y la de muchos otros. Tu contribución a la curación del mundo es de vital importancia y te daremos la bienvenida a nuestro Equipo Transformacional”.
URL:https://www.dianacooperschoolofwhitelight.com/course/formacion-de-profesores-transforma-tu-vida/
LOCATION:Online
CATEGORIES:Teacher Training
ATTACH;FMTTYPE=image/jpeg:https://www.dianacooperschoolofwhitelight.com/wp-content/uploads/2026/04/TY-life.jpeg
END:VEVENT
END:VCALENDAR