BEGIN:VCALENDAR
VERSION:2.0
PRODID:-//The Diana Cooper School of White Light - ECPv6.2.8.2//NONSGML v1.0//EN
CALSCALE:GREGORIAN
METHOD:PUBLISH
X-ORIGINAL-URL:https://www.dianacooperschoolofwhitelight.com
X-WR-CALDESC:Events for The Diana Cooper School of White Light
REFRESH-INTERVAL;VALUE=DURATION:PT1H
X-Robots-Tag:noindex
X-PUBLISHED-TTL:PT1H
BEGIN:VTIMEZONE
TZID:UTC
BEGIN:STANDARD
TZOFFSETFROM:+0000
TZOFFSETTO:+0000
TZNAME:UTC
DTSTART:20260101T000000
END:STANDARD
TZID:America/New_York
BEGIN:DAYLIGHT
TZOFFSETFROM:-0500
TZOFFSETTO:-0400
TZNAME:EDT
DTSTART:20260308T070000
END:DAYLIGHT
BEGIN:STANDARD
TZOFFSETFROM:-0400
TZOFFSETTO:-0500
TZNAME:EST
DTSTART:20261101T060000
END:STANDARD
END:VTIMEZONE
BEGIN:VEVENT
DTSTART;TZID=UTC:20260326T100000
DTEND;TZID=UTC:20260531T160000
DTSTAMP:20260424T083435
CREATED:20260325T140516Z
LAST-MODIFIED:20260325T140855Z
UID:10010554-1774519200-1780243200@www.dianacooperschoolofwhitelight.com
SUMMARY:Archangel Metatron 60 minute Card Reading
DESCRIPTION:  \n\n\n\n\n\n\n\n\n\n\n\n60 Minute Oracle Card Reading – With the Guidance of Archangel Metatron\nSometimes we reach moments in life where we need clarity\, reassurance\, or simply a deeper understanding of what is unfolding in our lives. \nThese Oracle Card Readings with the loving guidance of Archangel Metatron offer a sacred space to pause\, reflect\, and receive intuitive insight about the energies currently surrounding you. \nArchangel Metatron is deeply connected with spiritual awakening\, transformation\, soul purpose\, and energetic alignment. During the reading\, I tune into your energy and invite Metatron’s guidance through the oracle cards to bring forward the messages that will best support you at this time. \nThe guidance offered can help you see your situation from a higher perspective\, bringing clarity\, encouragement\, and practical steps for moving forward. \nHow Your Reading Works\nYou can choose the format that feels most comfortable for you: \nLive Zoom Reading (UK time)A live 1:1 session where we connect together. You can ask questions\, explore your situation\, and receive intuitive guidance in real time. \nRecorded ReadingIf you prefer\, I can tune into your energy and record your reading for you. The audio will then be sent to you via email with pictures of the cards pulled\, so you can listen to it in your own time and revisit the guidance whenever you wish. \nBoth options allow you to receive the same loving intuitive guidance and energetic insight. \nWhat We Can Explore in Your Reading\nYou may come with a specific question or area of life you would like guidance on\, or you can simply ask for a general reading to see what messages wish to come forward. \nSome areas we may explore include: \nYour current energy and what is unfolding in your lifeSpiritual growth and soul path guidanceRelationships and connections with othersYour intuitive gifts and spiritual developmentGuidance for making decisions or choosing a directionReleasing old patterns or beliefs that no longer serve youEnergy around work\, purpose\, or callingMessages your soul is ready to receive at this time \nYou may also bring specific questions\, such as: \n• What am I currently being guided to focus on?• What is this situation trying to teach me?• What energy is surrounding this relationship or situation?• What is blocking me from moving forward?• What guidance does my soul need right now? \nA Sacred and Supportive Space\nEach reading is held in a safe\, supportive\, and non-judgmental space. \nMy role is simply to open the channel for guidance and insight\, helping you connect more deeply with your own inner knowing and the loving support of the spiritual realm. \nThe messages that come forward are always shared with compassion\, honesty\, and the intention of empowering you on your path. \nIs This Reading Right for You?\nThis reading may be helpful if you: \n• Are feeling uncertain about a situation in your life• Are going through a transition or period of change• Want deeper spiritual insight into your path• Feel drawn to Archangel Metatron’s energy• Would like intuitive guidance and energetic clarity \nBook Your Oracle Card Reading\nIf you feel called to receive guidance\, you can book your reading by emailing me on michelle@homeopathy.services (yes I am a homeopath too) Once booked\, you will be able to either: \n• Schedule your Zoom reading\, or• Send your question or topic for a recorded reading \nI look forward to holding space for you and sharing the messages that wish to come through. \n\nI look forward to working with you\, \n\nLove Michelle \n\n\n\n\n\n\n\n\n\n\n\n\n\n\n\n\n\n\n\n\n\n\n\n\n\n\n\n\n\n\n\n\n\n\n 
URL:https://www.dianacooperschoolofwhitelight.com/course/archangel-metatron-60-minute-card-reading/2026-03-26/
LOCATION:online on zoom
CATEGORIES:Workshops
ATTACH;FMTTYPE=image/png:https://www.dianacooperschoolofwhitelight.com/wp-content/uploads/2026/03/ChatGPT-Image-Mar-25-2026-at-02_01_56-PM.png
END:VEVENT
BEGIN:VEVENT
DTSTART;TZID=UTC:20260330T100000
DTEND;TZID=UTC:20260604T160000
DTSTAMP:20260424T083435
CREATED:20260325T140516Z
LAST-MODIFIED:20260325T140855Z
UID:10010555-1774864800-1780588800@www.dianacooperschoolofwhitelight.com
SUMMARY:Archangel Metatron 60 minute Card Reading
DESCRIPTION:  \n\n\n\n\n\n\n\n\n\n\n\n60 Minute Oracle Card Reading – With the Guidance of Archangel Metatron\nSometimes we reach moments in life where we need clarity\, reassurance\, or simply a deeper understanding of what is unfolding in our lives. \nThese Oracle Card Readings with the loving guidance of Archangel Metatron offer a sacred space to pause\, reflect\, and receive intuitive insight about the energies currently surrounding you. \nArchangel Metatron is deeply connected with spiritual awakening\, transformation\, soul purpose\, and energetic alignment. During the reading\, I tune into your energy and invite Metatron’s guidance through the oracle cards to bring forward the messages that will best support you at this time. \nThe guidance offered can help you see your situation from a higher perspective\, bringing clarity\, encouragement\, and practical steps for moving forward. \nHow Your Reading Works\nYou can choose the format that feels most comfortable for you: \nLive Zoom Reading (UK time)A live 1:1 session where we connect together. You can ask questions\, explore your situation\, and receive intuitive guidance in real time. \nRecorded ReadingIf you prefer\, I can tune into your energy and record your reading for you. The audio will then be sent to you via email with pictures of the cards pulled\, so you can listen to it in your own time and revisit the guidance whenever you wish. \nBoth options allow you to receive the same loving intuitive guidance and energetic insight. \nWhat We Can Explore in Your Reading\nYou may come with a specific question or area of life you would like guidance on\, or you can simply ask for a general reading to see what messages wish to come forward. \nSome areas we may explore include: \nYour current energy and what is unfolding in your lifeSpiritual growth and soul path guidanceRelationships and connections with othersYour intuitive gifts and spiritual developmentGuidance for making decisions or choosing a directionReleasing old patterns or beliefs that no longer serve youEnergy around work\, purpose\, or callingMessages your soul is ready to receive at this time \nYou may also bring specific questions\, such as: \n• What am I currently being guided to focus on?• What is this situation trying to teach me?• What energy is surrounding this relationship or situation?• What is blocking me from moving forward?• What guidance does my soul need right now? \nA Sacred and Supportive Space\nEach reading is held in a safe\, supportive\, and non-judgmental space. \nMy role is simply to open the channel for guidance and insight\, helping you connect more deeply with your own inner knowing and the loving support of the spiritual realm. \nThe messages that come forward are always shared with compassion\, honesty\, and the intention of empowering you on your path. \nIs This Reading Right for You?\nThis reading may be helpful if you: \n• Are feeling uncertain about a situation in your life• Are going through a transition or period of change• Want deeper spiritual insight into your path• Feel drawn to Archangel Metatron’s energy• Would like intuitive guidance and energetic clarity \nBook Your Oracle Card Reading\nIf you feel called to receive guidance\, you can book your reading by emailing me on michelle@homeopathy.services (yes I am a homeopath too) Once booked\, you will be able to either: \n• Schedule your Zoom reading\, or• Send your question or topic for a recorded reading \nI look forward to holding space for you and sharing the messages that wish to come through. \n\nI look forward to working with you\, \n\nLove Michelle \n\n\n\n\n\n\n\n\n\n\n\n\n\n\n\n\n\n\n\n\n\n\n\n\n\n\n\n\n\n\n\n\n\n\n 
URL:https://www.dianacooperschoolofwhitelight.com/course/archangel-metatron-60-minute-card-reading/2026-03-30/
LOCATION:online on zoom
CATEGORIES:Workshops
ATTACH;FMTTYPE=image/png:https://www.dianacooperschoolofwhitelight.com/wp-content/uploads/2026/03/ChatGPT-Image-Mar-25-2026-at-02_01_56-PM.png
END:VEVENT
BEGIN:VEVENT
DTSTART;TZID=UTC:20260403T100000
DTEND;TZID=UTC:20260608T160000
DTSTAMP:20260424T083435
CREATED:20260325T140516Z
LAST-MODIFIED:20260325T140855Z
UID:10010556-1775210400-1780934400@www.dianacooperschoolofwhitelight.com
SUMMARY:Archangel Metatron 60 minute Card Reading
DESCRIPTION:  \n\n\n\n\n\n\n\n\n\n\n\n60 Minute Oracle Card Reading – With the Guidance of Archangel Metatron\nSometimes we reach moments in life where we need clarity\, reassurance\, or simply a deeper understanding of what is unfolding in our lives. \nThese Oracle Card Readings with the loving guidance of Archangel Metatron offer a sacred space to pause\, reflect\, and receive intuitive insight about the energies currently surrounding you. \nArchangel Metatron is deeply connected with spiritual awakening\, transformation\, soul purpose\, and energetic alignment. During the reading\, I tune into your energy and invite Metatron’s guidance through the oracle cards to bring forward the messages that will best support you at this time. \nThe guidance offered can help you see your situation from a higher perspective\, bringing clarity\, encouragement\, and practical steps for moving forward. \nHow Your Reading Works\nYou can choose the format that feels most comfortable for you: \nLive Zoom Reading (UK time)A live 1:1 session where we connect together. You can ask questions\, explore your situation\, and receive intuitive guidance in real time. \nRecorded ReadingIf you prefer\, I can tune into your energy and record your reading for you. The audio will then be sent to you via email with pictures of the cards pulled\, so you can listen to it in your own time and revisit the guidance whenever you wish. \nBoth options allow you to receive the same loving intuitive guidance and energetic insight. \nWhat We Can Explore in Your Reading\nYou may come with a specific question or area of life you would like guidance on\, or you can simply ask for a general reading to see what messages wish to come forward. \nSome areas we may explore include: \nYour current energy and what is unfolding in your lifeSpiritual growth and soul path guidanceRelationships and connections with othersYour intuitive gifts and spiritual developmentGuidance for making decisions or choosing a directionReleasing old patterns or beliefs that no longer serve youEnergy around work\, purpose\, or callingMessages your soul is ready to receive at this time \nYou may also bring specific questions\, such as: \n• What am I currently being guided to focus on?• What is this situation trying to teach me?• What energy is surrounding this relationship or situation?• What is blocking me from moving forward?• What guidance does my soul need right now? \nA Sacred and Supportive Space\nEach reading is held in a safe\, supportive\, and non-judgmental space. \nMy role is simply to open the channel for guidance and insight\, helping you connect more deeply with your own inner knowing and the loving support of the spiritual realm. \nThe messages that come forward are always shared with compassion\, honesty\, and the intention of empowering you on your path. \nIs This Reading Right for You?\nThis reading may be helpful if you: \n• Are feeling uncertain about a situation in your life• Are going through a transition or period of change• Want deeper spiritual insight into your path• Feel drawn to Archangel Metatron’s energy• Would like intuitive guidance and energetic clarity \nBook Your Oracle Card Reading\nIf you feel called to receive guidance\, you can book your reading by emailing me on michelle@homeopathy.services (yes I am a homeopath too) Once booked\, you will be able to either: \n• Schedule your Zoom reading\, or• Send your question or topic for a recorded reading \nI look forward to holding space for you and sharing the messages that wish to come through. \n\nI look forward to working with you\, \n\nLove Michelle \n\n\n\n\n\n\n\n\n\n\n\n\n\n\n\n\n\n\n\n\n\n\n\n\n\n\n\n\n\n\n\n\n\n\n 
URL:https://www.dianacooperschoolofwhitelight.com/course/archangel-metatron-60-minute-card-reading/2026-04-03/
LOCATION:online on zoom
CATEGORIES:Workshops
ATTACH;FMTTYPE=image/png:https://www.dianacooperschoolofwhitelight.com/wp-content/uploads/2026/03/ChatGPT-Image-Mar-25-2026-at-02_01_56-PM.png
END:VEVENT
BEGIN:VEVENT
DTSTART;TZID=UTC:20260407T100000
DTEND;TZID=UTC:20260612T160000
DTSTAMP:20260424T083435
CREATED:20260325T140516Z
LAST-MODIFIED:20260325T140855Z
UID:10010557-1775556000-1781280000@www.dianacooperschoolofwhitelight.com
SUMMARY:Archangel Metatron 60 minute Card Reading
DESCRIPTION:  \n\n\n\n\n\n\n\n\n\n\n\n60 Minute Oracle Card Reading – With the Guidance of Archangel Metatron\nSometimes we reach moments in life where we need clarity\, reassurance\, or simply a deeper understanding of what is unfolding in our lives. \nThese Oracle Card Readings with the loving guidance of Archangel Metatron offer a sacred space to pause\, reflect\, and receive intuitive insight about the energies currently surrounding you. \nArchangel Metatron is deeply connected with spiritual awakening\, transformation\, soul purpose\, and energetic alignment. During the reading\, I tune into your energy and invite Metatron’s guidance through the oracle cards to bring forward the messages that will best support you at this time. \nThe guidance offered can help you see your situation from a higher perspective\, bringing clarity\, encouragement\, and practical steps for moving forward. \nHow Your Reading Works\nYou can choose the format that feels most comfortable for you: \nLive Zoom Reading (UK time)A live 1:1 session where we connect together. You can ask questions\, explore your situation\, and receive intuitive guidance in real time. \nRecorded ReadingIf you prefer\, I can tune into your energy and record your reading for you. The audio will then be sent to you via email with pictures of the cards pulled\, so you can listen to it in your own time and revisit the guidance whenever you wish. \nBoth options allow you to receive the same loving intuitive guidance and energetic insight. \nWhat We Can Explore in Your Reading\nYou may come with a specific question or area of life you would like guidance on\, or you can simply ask for a general reading to see what messages wish to come forward. \nSome areas we may explore include: \nYour current energy and what is unfolding in your lifeSpiritual growth and soul path guidanceRelationships and connections with othersYour intuitive gifts and spiritual developmentGuidance for making decisions or choosing a directionReleasing old patterns or beliefs that no longer serve youEnergy around work\, purpose\, or callingMessages your soul is ready to receive at this time \nYou may also bring specific questions\, such as: \n• What am I currently being guided to focus on?• What is this situation trying to teach me?• What energy is surrounding this relationship or situation?• What is blocking me from moving forward?• What guidance does my soul need right now? \nA Sacred and Supportive Space\nEach reading is held in a safe\, supportive\, and non-judgmental space. \nMy role is simply to open the channel for guidance and insight\, helping you connect more deeply with your own inner knowing and the loving support of the spiritual realm. \nThe messages that come forward are always shared with compassion\, honesty\, and the intention of empowering you on your path. \nIs This Reading Right for You?\nThis reading may be helpful if you: \n• Are feeling uncertain about a situation in your life• Are going through a transition or period of change• Want deeper spiritual insight into your path• Feel drawn to Archangel Metatron’s energy• Would like intuitive guidance and energetic clarity \nBook Your Oracle Card Reading\nIf you feel called to receive guidance\, you can book your reading by emailing me on michelle@homeopathy.services (yes I am a homeopath too) Once booked\, you will be able to either: \n• Schedule your Zoom reading\, or• Send your question or topic for a recorded reading \nI look forward to holding space for you and sharing the messages that wish to come through. \n\nI look forward to working with you\, \n\nLove Michelle \n\n\n\n\n\n\n\n\n\n\n\n\n\n\n\n\n\n\n\n\n\n\n\n\n\n\n\n\n\n\n\n\n\n\n 
URL:https://www.dianacooperschoolofwhitelight.com/course/archangel-metatron-60-minute-card-reading/2026-04-07/
LOCATION:online on zoom
CATEGORIES:Workshops
ATTACH;FMTTYPE=image/png:https://www.dianacooperschoolofwhitelight.com/wp-content/uploads/2026/03/ChatGPT-Image-Mar-25-2026-at-02_01_56-PM.png
END:VEVENT
BEGIN:VEVENT
DTSTART;TZID=UTC:20260409T080000
DTEND;TZID=UTC:20260409T170000
DTSTAMP:20260424T083435
CREATED:20240401T151849Z
LAST-MODIFIED:20240401T151849Z
UID:10001182-1775721600-1775754000@www.dianacooperschoolofwhitelight.com
SUMMARY:ANGEL CARD READINGS
DESCRIPTION:Working with a photograph I offer a personal card reading service. I’ve been guided to connect with those requiring a reading via their photograph\, which enables me\, with the help of my guardian angel and archangels to tune into their energy.  With the help of these beautiful celestial beings\, I am then guided to work with a variety of divination cards\, which when combined\, offer guidance on a mind\, body and soul level.  No two readings are ever the same\, with the variety of cards and card formation differing each time; minimum 10 cards drawn.  The readings are always totally guided\, and from the divination cards\, I am then inspired and guided to write notes via automatic writing.  It is these notes that are then shared with you via email and include full information on the cards drawn; minimum 10 page report.  Along with the photograph\, you are also invited to ask for guidance in any area of your life that you may feel is stuck. \n“Everything you shared resonated with me and my life’s path. It was as if you were reading my truth and all that I knew about myself was being validated in words.” (Victoria\, Somerset\, UK). \n“An incredible talent; profound.” (Mandy\, Dorset\, UK) \n“I still have my reading from six years ago; it has been my life compass on many occasions. Thank you.”  (Dan\, Hampshire\, UK) \n“Eerily accurate…” (Natasha\, Almeria\, Spain) \n  \n 
URL:https://www.dianacooperschoolofwhitelight.com/course/angel-card-readings/2026-04-09/
LOCATION:Online
ATTACH;FMTTYPE=image/jpeg:https://www.dianacooperschoolofwhitelight.com/wp-content/uploads/2024/04/IMG_6503.jpeg
END:VEVENT
BEGIN:VEVENT
DTSTART;TZID=UTC:20260409T080000
DTEND;TZID=UTC:20260409T170000
DTSTAMP:20260424T083435
CREATED:20240401T154838Z
LAST-MODIFIED:20240401T155122Z
UID:10004836-1775721600-1775754000@www.dianacooperschoolofwhitelight.com
SUMMARY:DISTANCE ANGELIC REIKI HEALING
DESCRIPTION:My healing practitioner journey started nearly 20 years ago. I originally train as a Spiritual Healer in Devon\, UK and then later in West Sussex\, UK.  This was a beautiful way to connect with universal energy and to recognise that we are permanently connected to something bigger than ourselves.  In 2005\, I then came across an amazing teacher\, Sarah\, who sadly passed in early 2023\, but it was this beautiful soul that introduced me to the work of Diana Cooper and inspired me to incorporate angelic energy into my healing work.  Since this time\, I have trained as an Angelic Reiki practitioner and as an Angelic Reiki Master\, which enables me to offer 1:1 or distance healing. I cannot express what a huge privilege it is to be asked and trusted to deliver angelic reiki\, which is a beautiful\, pure and radiant energy. \nI  work with a photograph of the person requesting the healing as this assists me in forming a stronger spiritual connection.  The healing session will take place at a mutually agreed time. I will send information on how to best prepare and benefit from the healing session. Feedback is offered in a separate 1:1 on-line session\, which again\, is booked at a mutually convenient time. The feedback session  is an opportunity to share the experience and to discuss anything that came up during the healing process. \nEmail me if you require any further information. \n“I felt a warm and glowing sensation within my body…  My mood was lifted and the following day\, something had changed. I felt different\, in a good way.” (Clare\, Yorkshire\, UK) \n“Sceptical at first… yet blown away by what I feel are the results of distance healing. Would recommend trying to anyone who feels the same.”    (Narelle\, Yorkshire\, UK)
URL:https://www.dianacooperschoolofwhitelight.com/course/distance-angelic-reiki-healing/2026-04-09/
LOCATION:Online
ATTACH;FMTTYPE=image/jpeg:https://www.dianacooperschoolofwhitelight.com/wp-content/uploads/2024/04/SOCIAL.jpg
END:VEVENT
BEGIN:VEVENT
DTSTART;TZID=America/New_York:20260409T090000
DTEND;TZID=America/New_York:20260409T100000
DTSTAMP:20260424T083435
CREATED:20260404T140516Z
LAST-MODIFIED:20260404T165046Z
UID:10011067-1775725200-1775728800@www.dianacooperschoolofwhitelight.com
SUMMARY:Into The Unicorn Realm: Celebrate International Unicorn Day
DESCRIPTION:There is a realm of pure light\, magic\, and innocence that exists beyond the physical…\nA realm where unicorns guide\, heal\, and elevate your consciousness. \nOn this International Unicorn Day\, you are invited to step into that realm — to reconnect with the magic within you and awaken a deeper level of joy\, light\, and spiritual expansion. \n\n\n\n\n\n\n🌈 What You Will Experience\n🦄 A deeper understanding of unicorn energy and its role in spiritual evolution \n🌟 A guided journey to meet your personal unicorn \n✨ An energetic activation to raise your vibration and awareness \n💖 A sense of peace\, joy\, and magical connection \n🔮 A personal one-card unicorn reading with a message just for you \n\n\n\n\n\n\n🦄 This Is For You If You….\n\n\nYou believe unicorns exist… or have always wondered if they did \n\n\nYou feel drawn to magic\, higher realms\, and unseen guidance \n\n\nYou want to experience lightness\, joy\, and childlike wonder again \n\n\nYou are on a spiritual path and want to expand your consciousness \n\n\nYou enjoy guided visualizations and energetic experiences \n\n\nYou are curious and open\, even if you’re a beginner \n\n\n\n\n\n\n\n\n💖 Workshop Details\nFormat: Live on Zoom (Recording available)\nDuration: 60 minutes\nDate: April 9\nTime: 9:00 am EDT / 6:30 pm IST\nEnergy Exchange: $22 / Rs. 1700 \nIf you’ve been waiting for a sign to reconnect with wonder\, joy\, and light… this is it. \nYour unicorn is already waiting for you💫 \nSign Up subscribepage.io/30WJEa or WhatsApp +91 9769159827
URL:https://www.dianacooperschoolofwhitelight.com/course/into-the-unicorn-realm-celebrate-international-unicorn-day/
LOCATION:Zoom (Disti)
CATEGORIES:Workshops
ATTACH;FMTTYPE=image/png:https://www.dianacooperschoolofwhitelight.com/wp-content/uploads/2026/04/Unicorn-Realm-1.png
END:VEVENT
BEGIN:VEVENT
DTSTART;TZID=UTC:20260409T110000
DTEND;TZID=UTC:20260409T130000
DTSTAMP:20260424T083435
CREATED:20250317T023155Z
LAST-MODIFIED:20260331T031056Z
UID:10007093-1775732400-1775739600@www.dianacooperschoolofwhitelight.com
SUMMARY:Dragon Teacher Training- Online
DESCRIPTION:This is a perfect time to connect with these magnificent beings Dragons and experience their profound energy. Strengthening your relationship with Dragons can open up pathways for growth\, healing\, and spiritual evolution. \nWho is this training for?  This program is designed for: \n• Healers\, energy workers\, or spiritual entrepreneurs ready to enhance their services. \n• Those who feel a strong connection with Dragons and wish to meet their personal Dragon\, connect with Dragon Masters\, and explore the wisdom of different Dragons. \n• Individuals who know their calling is to be a Lightworker and Dragon guide and are eager to build a solid foundation for their spiritual career or expand their current practice. \nHow Dragons Can Help You:  \n• Clear and purify low\, stagnant energies\, even in the densest areas. \n• Support spiritual growth and ascension by raising your vibration. \n• Offer a Higher Perspective to navigate life’s challenges. \n• Assist with the current dimensional shift\, guiding humanity into higher frequencies. \n  \nReady to Begin? \nConnect with me via WhatsApp : wa.me/919007056166 or \n\nEmail on astro.megz@gmail.com\n\n\n\nSchedule a free discovery call on Zoom to learn more and get your questions answered. \nStep into your Dragon Journey Today!
URL:https://www.dianacooperschoolofwhitelight.com/course/dragon-teacher-training-online-2/
LOCATION:Online on Zoom
CATEGORIES:Teacher Training
ATTACH;FMTTYPE=image/png:https://www.dianacooperschoolofwhitelight.com/wp-content/uploads/2025/03/Copy-of-Untitled-Instagram-Post-34.png
ORGANIZER;CN="Meghaa Gupta":MAILTO:astro.megz@gmail.com
END:VEVENT
BEGIN:VEVENT
DTSTART;TZID=UTC:20260409T183000
DTEND;TZID=UTC:20260409T200000
DTSTAMP:20260424T083435
CREATED:20260225T105324Z
LAST-MODIFIED:20260225T143733Z
UID:10010332-1775759400-1775764800@www.dianacooperschoolofwhitelight.com
SUMMARY:💫 Conoce a tu círculo espiritual
DESCRIPTION:Un viaje de 5 clases para conectar con tus ángeles\, dragones\, unicornios y guías espirituales \n¿Alguna vez te has sentido solo en tu viaje espiritual? 🌙\n¿Alguna vez has deseado conocer a los guías que siempre están a tu lado\, protegiéndote\, guiándote e inspirándote? \nNo caminas\, solo\, tu Círculo de Apoyo Espiritual ha estado contigo. \nEn este viaje de transformación en vivo de 5 clases\, podrás:\n✨ Conocer a tu ángel de la guarda y aprender cómo se comunica contigo\n✨ Conectar con tu Dragon protector y recibir su energía para obtener valentía y fuerza\n✨ Recibir una bendición de unicornio para purificar tu corazón y activar la misión de tu alma\n✨ Descubrir a tu guía espiritual animal y desbloquear la sabiduría ancestral\n✨ Activar tu equipo de ascensión y guías maestros \nCada clase incluye: viajes guiados\, meditaciones\, ejercicios de integración . \n💫 Fecha de inicio:\nSegundo Jueves de cada mes\, de abril a agosto                                                                                                                                                                  💰 €280 (5 clases)\n⏰ Horario: 18:30–20:00\, hora de Madrid\n💎 Plazas limitadas \n✨ ¡Reserva tu plaza hoy mismo! \n📩 Escríbeme a paula@paula-nielsen.com para reservar tu clase o si tienes alguna pregunta. \nSi deseas unirte al ciclo completo pero alguna fecha u horario no te resulta conveniente\, escríbeme un mensaje y encontraremos la mejor manera para que puedas participar y disfrutar plenamente de todas las clases. \nPaula
URL:https://www.dianacooperschoolofwhitelight.com/course/%f0%9f%92%ab-conoce-a-tu-circulo-espiritual/2026-04-09/
LOCATION:Online
CATEGORIES:Workshops
ATTACH;FMTTYPE=image/jpeg:https://www.dianacooperschoolofwhitelight.com/wp-content/uploads/2026/02/circle-.jpeg
END:VEVENT
END:VCALENDAR